BEGIN:VCALENDAR
VERSION:2.0
PRODID:-//Bradshaw Cricket Club - ECPv6.15.18//NONSGML v1.0//EN
CALSCALE:GREGORIAN
METHOD:PUBLISH
X-WR-CALNAME:Bradshaw Cricket Club
X-ORIGINAL-URL:https://www.bradshawcricketclub.co.uk
X-WR-CALDESC:Events for Bradshaw Cricket Club
REFRESH-INTERVAL;VALUE=DURATION:PT1H
X-Robots-Tag:noindex
X-PUBLISHED-TTL:PT1H
BEGIN:VTIMEZONE
TZID:UTC
BEGIN:STANDARD
TZOFFSETFROM:+0000
TZOFFSETTO:+0000
TZNAME:UTC
DTSTART:20180101T000000
END:STANDARD
END:VTIMEZONE
BEGIN:VEVENT
DTSTART;TZID=UTC:20190321T193000
DTEND;TZID=UTC:20190321T223000
DTSTAMP:20260423T225000
CREATED:20190131T202239Z
LAST-MODIFIED:20190131T202239Z
UID:2142-1553196600-1553207400@www.bradshawcricketclub.co.uk
SUMMARY:Spring Fashion Show
DESCRIPTION:
URL:https://www.bradshawcricketclub.co.uk/index.php/event/spring-fashion-show/
LOCATION:Bradshaw Cricket Club\, Rigby Lane Off\, Bolton Rd\,\, Bolton\, BL2 3EU\, United Kingdom
ORGANIZER;CN="Bradshaw Cricket Club":MAILTO:info@bradshawcricketclub.co.uk
END:VEVENT
END:VCALENDAR