BEGIN:VCALENDAR
VERSION:2.0
PRODID:-//Bradshaw Cricket Club - ECPv6.15.18//NONSGML v1.0//EN
CALSCALE:GREGORIAN
METHOD:PUBLISH
X-ORIGINAL-URL:https://www.bradshawcricketclub.co.uk
X-WR-CALDESC:Events for Bradshaw Cricket Club
REFRESH-INTERVAL;VALUE=DURATION:PT1H
X-Robots-Tag:noindex
X-PUBLISHED-TTL:PT1H
BEGIN:VTIMEZONE
TZID:UTC
BEGIN:STANDARD
TZOFFSETFROM:+0000
TZOFFSETTO:+0000
TZNAME:UTC
DTSTART:20240101T000000
END:STANDARD
END:VTIMEZONE
BEGIN:VEVENT
DTSTART;TZID=UTC:20251018T180000
DTEND;TZID=UTC:20251018T210000
DTSTAMP:20260422T122825
CREATED:20250815T155021Z
LAST-MODIFIED:20251003T153144Z
UID:10821-1760810400-1760821200@www.bradshawcricketclub.co.uk
SUMMARY:Bradshaw Fireworks Display
DESCRIPTION:Join us for the 53rd annual Fireworks Display at Bradshaw Cricket Club\, where this year’s theme is inspired by “Wicked! Get ready for an unforgettable evening filled with dazzling fireworks\, synchronized to captivating music and stunning light shows. \nBring the whole family and enjoy a night of fun\, with a vibrant funfair\, food trucks and a fully-stocked bar available on-site. We prioritize your safety\, with first aid provided by St. John Ambulance and professional door security. \nImportant Information: \nParking: No parking is available on-site. Please be respectful when parking in the local area\, and note that some streets will have no event parking. Where possible please consider walking or using public transport. \nThere are two entrances in operation:\nEntrance 1 is accessed directly from Bolton Road and is close to the 507 Bus stop.\nEntrance 2 can be accessed from either Turton Road or Bradshaw Road via Rigby Lane – The 533 & 541 buses from Bromley Cross and Egerton stop on Turton Road close to Rigby Lane.  \n \nPayment is at the gate\, cash payment only\, so arrive early to secure your spot at this family-friendly event. Don’t miss out on a night of wonder and excitement! \nGates open at 6pm\, with the display commencing at approx 8pm.
URL:https://www.bradshawcricketclub.co.uk/index.php/event/bradshaw-fireworks-display-2/
LOCATION:Bradshaw Cricket Club\, Rigby Lane Off\, Bolton Rd\,\, Bolton\, BL2 3EU\, United Kingdom
END:VEVENT
END:VCALENDAR