BEGIN:VCALENDAR
VERSION:2.0
PRODID:-//Bradshaw Cricket Club - ECPv6.15.18//NONSGML v1.0//EN
CALSCALE:GREGORIAN
METHOD:PUBLISH
X-WR-CALNAME:Bradshaw Cricket Club
X-ORIGINAL-URL:https://www.bradshawcricketclub.co.uk
X-WR-CALDESC:Events for Bradshaw Cricket Club
REFRESH-INTERVAL;VALUE=DURATION:PT1H
X-Robots-Tag:noindex
X-PUBLISHED-TTL:PT1H
BEGIN:VTIMEZONE
TZID:UTC
BEGIN:STANDARD
TZOFFSETFROM:+0000
TZOFFSETTO:+0000
TZNAME:UTC
DTSTART:20200101T000000
END:STANDARD
END:VTIMEZONE
BEGIN:VEVENT
DTSTART;TZID=UTC:20210928T193000
DTEND;TZID=UTC:20210928T220000
DTSTAMP:20260422T031544
CREATED:20210913T213404Z
LAST-MODIFIED:20210913T213522Z
UID:2988-1632857400-1632866400@www.bradshawcricketclub.co.uk
SUMMARY:Fashion Show
DESCRIPTION:Tickets are priced at £6\, which includes a complimentary glass of wine. \nPlease call Sheila Johnson on 07801 703034 to book a ticket.
URL:https://www.bradshawcricketclub.co.uk/index.php/event/fashion-show/
LOCATION:Bradshaw Cricket Club\, Rigby Lane Off\, Bolton Rd\,\, Bolton\, BL2 3EU\, United Kingdom
END:VEVENT
END:VCALENDAR