BEGIN:VCALENDAR
VERSION:2.0
PRODID:-//Bradshaw Cricket Club - ECPv6.15.18//NONSGML v1.0//EN
CALSCALE:GREGORIAN
METHOD:PUBLISH
X-ORIGINAL-URL:https://www.bradshawcricketclub.co.uk
X-WR-CALDESC:Events for Bradshaw Cricket Club
REFRESH-INTERVAL;VALUE=DURATION:PT1H
X-Robots-Tag:noindex
X-PUBLISHED-TTL:PT1H
BEGIN:VTIMEZONE
TZID:UTC
BEGIN:STANDARD
TZOFFSETFROM:+0000
TZOFFSETTO:+0000
TZNAME:UTC
DTSTART:20170101T000000
END:STANDARD
END:VTIMEZONE
BEGIN:VEVENT
DTSTART;TZID=UTC:20180928T193000
DTEND;TZID=UTC:20180928T233000
DTSTAMP:20260424T071936
CREATED:20180512T184549Z
LAST-MODIFIED:20180512T190629Z
UID:2032-1538163000-1538177400@www.bradshawcricketclub.co.uk
SUMMARY:Gin Tasting Evening
DESCRIPTION:Join us at BRADSHAW CRICKET CLUB for an evening of ‘ginebriation’- covering The History/Distillation Methods and Botanicals\, Garnishes and Mixers. \nAn entertainingly educationally gintoxicating evening of appreciation\, discovering what makes this unique tipple so special whilst enjoying 5 different artisan gins from around the world. \nwww.theginmeister.co.uk\nFacebook-Gin Meister\n£25.00 per ticket\nContact Joanne on 07802 819809 
URL:https://www.bradshawcricketclub.co.uk/index.php/event/gin-tasting-evening/
LOCATION:Bradshaw Cricket Club\, Rigby Lane Off\, Bolton Rd\,\, Bolton\, BL2 3EU\, United Kingdom
END:VEVENT
END:VCALENDAR