BEGIN:VCALENDAR
VERSION:2.0
PRODID:-//Bradshaw Cricket Club - ECPv6.15.18//NONSGML v1.0//EN
CALSCALE:GREGORIAN
METHOD:PUBLISH
X-ORIGINAL-URL:https://www.bradshawcricketclub.co.uk
X-WR-CALDESC:Events for Bradshaw Cricket Club
REFRESH-INTERVAL;VALUE=DURATION:PT1H
X-Robots-Tag:noindex
X-PUBLISHED-TTL:PT1H
BEGIN:VTIMEZONE
TZID:UTC
BEGIN:STANDARD
TZOFFSETFROM:+0000
TZOFFSETTO:+0000
TZNAME:UTC
DTSTART:20170101T000000
END:STANDARD
END:VTIMEZONE
BEGIN:VEVENT
DTSTART;TZID=UTC:20180515T200000
DTEND;TZID=UTC:20180515T210000
DTSTAMP:20260424T123755
CREATED:20180512T182740Z
LAST-MODIFIED:20180512T182740Z
UID:2017-1526414400-1526418000@www.bradshawcricketclub.co.uk
SUMMARY:Tuesday Night Dinner
DESCRIPTION:Come and join us for a Tuesday night dinner. Open to everyone.  \nRoast chicken dinner in a massive Yorkshire pudding £6.00\nChocolate Brownie £3.00 
URL:https://www.bradshawcricketclub.co.uk/index.php/event/tuesday-night-dinner/
LOCATION:Bradshaw Cricket Club\, Rigby Lane Off\, Bolton Rd\,\, Bolton\, BL2 3EU\, United Kingdom
END:VEVENT
END:VCALENDAR